BEGIN:VCALENDAR
VERSION:2.0
PRODID:-//Library Market//iCal Export//EN
BEGIN:VEVENT
SUMMARY:The Writer&#039;s Experience Workshop at LaVale Library
UID:33736
DTSTAMP:20260425T185800Z
DTSTART:20260617T143000Z
DTEND:20260617T160000Z
LOCATION:LaVale Library, 815 National Highway, LaVale, MD 21502, United St
 ates
ROOM: LaVale Meeting Room A
DESCRIPTION:The Writer&#039;s Experience is a writer&#039;s workshop.Facil
 itated by author Peter ParrLearn the building blocks of a story and the ar
 chitecture of a bookExplore themes like; why am I writing, who is my audie
 nce and what draws me to my favorite authors?Together we’ll explore, ins
 pire and grow as writers
URL:https://allegany.librarymarket.com/index.php/event/writers-experience-
 33736
END:VEVENT
END:VCALENDAR
