BEGIN:VCALENDAR
VERSION:2.0
PRODID:-//Library Market//iCal Export//EN
BEGIN:VEVENT
SUMMARY:Dept of Social Services
UID:33816
DTSTAMP:20260426T021000Z
DTSTART:20260428T150000Z
DTEND:20260428T170000Z
LOCATION:LaVale Library, 815 National Highway, LaVale, MD 21502, United St
 ates
ROOM: The Jeannette Johnson Study Room
DESCRIPTION:General Meeting
URL:https://allegany.librarymarket.com/index.php/event/dept-social-service
 s-33816
END:VEVENT
END:VCALENDAR
