BEGIN:VCALENDAR
VERSION:2.0
PRODID:-//Library Market//iCal Export//EN
BEGIN:VEVENT
SUMMARY:abby
UID:33753
DTSTAMP:20260421T035200Z
DTSTART:20260425T160000Z
DTEND:20260425T190000Z
LOCATION:LaVale Library, 815 National Hwy, LaVale, MD 21502, United States
ROOM: LaVale Study Room
DESCRIPTION:study
URL:https://allegany.librarymarket.com/event/abby-33753
END:VEVENT
END:VCALENDAR
