BEGIN:VCALENDAR
VERSION:2.0
PRODID:-//Library Market//iCal Export//EN
BEGIN:VEVENT
SUMMARY:Charles Bailey School Project
UID:33835
DTSTAMP:20260425T194800Z
DTSTART:20260425T140000Z
DTEND:20260425T150000Z
LOCATION:South Cumberland Library, 100 Seymour Street, Cumberland, MD 2150
 2, United States
ROOM: South Cumberland Study Room
DESCRIPTION:School project
URL:https://allegany.librarymarket.com/event/charles-bailey-school-project
 -33835
END:VEVENT
END:VCALENDAR
